
BEGIN:VCALENDAR
VERSION:2.0
PRODID:-//TYPO3/NONSGML News system (news)//EN
BEGIN:VEVENT
UID:news-346@kreativ-haus.de
DTSTAMP:20260420T123025Z
DTSTART:20260424T183000
DTEND:20260424T210000
SUMMARY:Sanfte Contact Improvisation – dem inneren Ozean lauschen
DESCRIPTION:In diesem Miniworkshop tauchen wir spürend und sanft in die Basisprinzipien der Contact Improvisation ein.

LOCATION:Saal
RRULE:
END:VEVENT
END:VCALENDAR
